Workbook
Name A__VO2: #REF!
Name A__VO2: #REF!
Name A__VO2: #REF!
Name A__VO2: #REF!
Name A__VO2: #REF!
Name A_v02: #REF!
Name A_v02: #REF!
Name A_v02: #REF!
Name A_v02: #REF!
Name A_v02: #REF!
Name Abkürzung: #REF!
Name Abkürzung: #REF!
Name Abkürzung: #REF!
Name Abkürzung: #REF!
Name Abkürzung: #REF!
Name Banister: #REF!
Name Banister: #REF!
Name Banister: #REF!
Name Banister: #REF!
Name Banister: #REF!
Name BL_VO2: #REF!
Name BL_VO2: #REF!
Name BL_VO2: #REF!
Name BL_VO2: #REF!
Name BL_VO2: #REF!
Name km: #REF!
Name km: #REF!
Name km: #REF!
Name km: #REF!
Name km: #REF!
Name Kurse: #REF!
Name Kurse: #REF!
Name Kurse: #REF!
Name Kurse: #REF!
Name Kurse: #REF!
Name Name: #REF!
Name Name: #REF!
Name Name: #REF!
Name Name: #REF!
Name Name: #REF!
Name Ort: #REF!
Name Ort: #REF!
Name Ort: #REF!
Name Ort: #REF!
Name Ort: #REF!
Name Saisonermüdung: #REF!
Name Saisonermüdung: #REF!
Name Saisonermüdung: #REF!
Name Saisonermüdung: #REF!
Name Saisonermüdung: #REF!
Name Tau: #REF!
Name Tau: #REF!
Name Tau: #REF!
Name Tau: #REF!
Name Tau: #REF!
Name TD: #REF!
Name TD: #REF!
Name TD: #REF!
Name TD: #REF!
Name TD: #REF!

Sheet Allgemein
B3: Version 5.01a
B5: Erdbeben
B6: Fassadenbau
K7: 45057
E9: Sie arbeiten mit dem Projekt | I9: 12.02.2022-1
I10: Gartenstrasse 6
I11: Eicherzell
E14: Das Tool Erdbeben ist eine Auskopelung aus dem Paket BCWED.
E16: Damit können die Erdbebenlasten von Fassadenbauteilen grob
E17: abgeschätzt werden.
M289: 286

Sheet Grundlagen
A1: Projekt: | B1: =Allgemein!I10 -> Gartenstrasse 6
B2: =Allgemein!I11 -> Eicherzell
A3: Projektnummer: | B3: =Allgemein!I9 -> 12.02.2022-1
A5: Projektort | B5: Eicherzell
A7: Terrainhöhe | B7: 557 | C7: m.ü.M.
G8: Baugrundklasse
A10: Erdbebenzone | B10: Z1a | C10: 0 | D10: =IF(C15<>1," keine präzise Auswahl"," Auswahl OK") -> Auswahl OK | F10: A | G10: 0 | H10: =IF(G16<>1," keine präzise Auswahl"," Auswahl OK") -> Auswahl OK
B11: Z1b | C11: 1 | F11: B | G11: 0
B12: Z2 | C12: 0 | F12: C | G12: 1
B13: Z3a | C13: 0 | F13: D | G13: 0
B14: Z3b | C14: 0 | D14: =IF(C10=1,1,IF(C11=1,2,IF(C12=1,3,IF(C13=1,4,5)))) -> 2 | F14: E | G14: 0
C15: =SUM(C10:C14) -> 1 | F15: F | G15: 0 | H15: =IF(G10=1,1,IF(G11=1,2,IF(G12=1,3,IF(G13=1,4,IF(G14=1,5,6))))) -> 3
A16: Bauwerksklasse | B16: I | C16: Mögliche Bauwerksklassen: I, II, III | G16: =SUM(G10:G15) -> 1 | H16: =IF(B16="I",1,IF(B16="II",2,IF(B16="III",3,"falsche Auswahl"))) -> 1
A18: Verhaltensbeiwert qa | B18: 1.5 | C18: SIA 261 16.7.3
A21: Gebäudekennwerte | D21: Gebäudehöhe | E21: h = | F21: 10 | G21: m
D23: Stockwerkshöhe | E23: hs = | F23: 2.5 | G23: m | I23: Stockwerke | J23: =INT(F21/F23) -> 4
D25: maximale Verschiebung zwischen Bauwerksdecken | E25: u = | F25: 12.5 | G25: mm | I25: L/ | J25: =INT(F23*1000/F25) -> 200
A28: Aus Blatt Eigenfrequenz übernehmen | E28: Oder beim Rohbauingenieur abfragen.
D30: Grundschwingzeit des Gebäudes | E30: T1 = | F30: 0.422 | G30: s
A34: Fassadenbauteil | D34: Eigenlast sekundäres Bauteil | E34: Gs = | F34: 0.6 | G34: kN/m | H34: --> Ga = | I34: =F34*I38/2000 -> 0.75 | J34: kN
B35: dazu gehört das Eigengewicht des Stabes und die zurechenbare Eigenlast des
B36: Füllelementes (Glas, Panel, ..)
D38: Grundschwingzeit Bauteil | E38: Ta = | F38: 0.014 | G38: s Trägerlänge = | I38: 2500 | J38: mm
A41: Sämtliche Zellen welche gelb hinterlegt sind müssen ausgefüllt werden

Sheet Eigenfrequenz
A1: Projekt: | B1: =Allgemein!I10 -> Gartenstrasse 6
B2: =Allgemein!I11 -> Eicherzell
A3: Projektnummer: | B3: =Allgemein!I9 -> 12.02.2022-1
A6: Mit diesem Blatt werden die Eigenfrequenzen grob abgeschätzt.
A7: Die genauere Methode ist die Eingenfrequenz des Gebäudes vom Rohbauingenieur zu übernehmen.
A9: Abschätzen der Grundschwingzeit des Gebäudes. | E9: Formel 39 SIA 261, 2014
B11: Gebäudehöhe | C11: =Grundlagen!F21 -> 10 | D11: m | E11: wird vom Blatt Grundlagen übernommen
B13: Konstruktion des Gebäudes | C13: Stahlbau Rahmen | E13: 0 | G13: =IF(E16<>1,"keine präzise Auswahl","Auswahl OK") -> Auswahl OK
C14: Stahlbeton Rahmen | E14: 1
C15: andere Tragwerke | E15: 0 | F15: =IF(E13=1,1,IF(E14=1,2,3)) -> 2
E16: =SUM(E13:E15) -> 1
D17: Ct = | E17: =VLOOKUP(F15,Kurven!B63:L65,11) -> 0.075
D18: T1 = | E18: =E17*C11^0.75 -> 0.42175599 | F18: s --> | G18: ins Blatt Grundlagen übernehmen
A21: Abschätzen der Eigenfrequenz des Fassadenbauteils.
A23: Trägerlänge | B23: =Grundlagen!I38 -> 2500 | C23: mm | D23: aus Grundlagen übernommen
A24: Trägheitsmoment Ix | B24: 273832 | C24: mm4
A25: Elastizitätsmodul E | B25: 210000 | C25: N/mm
A26: Eigenlast Bauteil Gs | B26: =Grundlagen!F34 -> 0.6 | C26: kN/m | D26: aus Grundlagen übernommen
A27: Ga | B27: =Grundlagen!I34 -> 0.75 | C27: kN
B29: Grundschwingzeit Bauteil | C29: Ta = | D29: =Kurven!O59 -> 0.014369413 | E29: s --> | F29: ins Blatt Grundlagen übernehmen
A32: Ein Fassadenstab hat 2 erste Eigenfrequenzen, eine in der starken Achse des Stabes und eine in der schwachen
A33: Achse des Stabes. Die tiefere erste Eigenfrequenz und massgebend für die Lasten parallel zur Fassade
A34: besitzt meistens die schwache Achse des Stabes. Dies ist mit dem Trägheitsmoment Ix zu beeinflussen.

Sheet Erdbeben
A1: Projekt: | B1: =Allgemein!I10 -> Gartenstrasse 6
B2: =Allgemein!I11 -> Eicherzell
A3: Projektnummer: | B3: =Allgemein!I9 -> 12.02.2022-1
A6: Bemessungsgrundlagen | D6: Ort | E6: =Grundlagen!B5 -> Eicherzell | H6: Terrainhöhe | I6: =Grundlagen!B7 -> 557 | J6: m.ü.M.
D8: Erdbebenzone | E8: =VLOOKUP(Grundlagen!D14,Kurven!B63:C67,2) -> Z1b | F8: agd | G8: =VLOOKUP(Grundlagen!D14,Kurven!B63:D67,3) -> 0.8
D10: Baugrundklasse | E10: =VLOOKUP(Grundlagen!H15,Kurven!B53:C58,2) -> C
C12: S | D12: TB | E12: TC | F12: TD | G12: lg
C13: =VLOOKUP(Grundlagen!H15,Kurven!B53:H58,3) -> 1.45 | D13: =VLOOKUP(Grundlagen!H15,Kurven!B53:H58,4) -> 0.1 | E13: =VLOOKUP(Grundlagen!H15,Kurven!B53:H58,5) -> 0.4 | F13: =VLOOKUP(Grundlagen!H15,Kurven!B53:H58,6) -> 2 | G13: =VLOOKUP(Grundlagen!H15,Kurven!B53:H58,7) -> 400
D15: Bauwerksklasse | E15: =Grundlagen!B16 -> I | F15: ᵧf = | G15: =IF(Grundlagen!B16="II",1.2,IF(Grundlagen!B16="III",1.5,1)) -> 1
D17: Verhaltensbeiwert | E17: qa = | F17: =Grundlagen!B18 -> 1.5 | H17: 16.7.3
A19: Gebäudekennwerte | D19: Gebäudehöhe | E19: h = | F19: =Grundlagen!F21 -> 10 | G19: m
D21: Stockwerkshöhe | E21: hs = | F21: =Grundlagen!F23 -> 2.5 | G21: m | I21: Stockwerke | J21: =INT(F19/F21) -> 4
D23: maximale Verschiebung zwischen Bauwerksdecken | E23: u = | F23: =Grundlagen!F25 -> 12.5 | G23: mm | I23: L/ | J23: =INT(F21*1000/F23) -> 200
D25: Grundschwingzeit des Gebäudes | E25: T1 = | F25: =Grundlagen!F30 -> 0.422 | G25: s
A29: Fassadenbauteil | D29: Eigenlast sekundäres Bauteil | E29: Gs = | F29: =Grundlagen!F34 -> 0.6 | G29: kN/m | H29: --> Ga = | I29: =F29*I31/2000 -> 0.75 | J29: kN
D31: Grundschwingzeit Bauteil | E31: Ta = | F31: =Grundlagen!F38 -> 0.014 | G31: s Trägerlänge = | I31: =Grundlagen!I38 -> 2500 | J31: mm
E33: = | F33: =G15*G8*C13*I29/(9.81*F17) -> 0.059123344
E39: = | F39: =F33*((3*(1+1)/(1+(1-F31/F25)^2))-0.5) -> 0.15379022 | G39: kN
A44: Gemäss SIA 261 16.7.2 ist Im Massenschwerpunkt des sekundären Bauteils die Horizontalkraft Fa
A45: in beiden horizontalen Richtungen x und y aufzubringen.
A46: Dies ist für die Verankerung des Bauteils insbesondere parallel zur Fassadenebene wichtig.
A49: Gebrauchstauglichkeit | B49: Der Nachweis ist bei Bauwerksklasse I und II nicht erforderlich.
A50: SIA 261, 2020 16.1.5 | B50: Bei der BWK III ist der Nachweis für das Fassadenbauteil
B51: gemäss EN 13830 zu erbringen.

Sheet Kurven
B50: Tabelle 24 aus der SIA 261
K51: Eigenfrequenz rechnen
C52: Baugrundklasse | D52: S | E52: TB | F52: TC | G52: TD | H52: lg | K52: L = | L52: =Grundlagen!I38 -> 2500 | M52: mm
B53: 1 | C53: A | D53: 1 | E53: 0.07 | F53: 0.25 | G53: 2 | H53: 600 | K53: E = | L53: =Eigenfrequenz!B25 -> 210000 | M53: N/mm2 | N53: =L53*L54 -> 57504720000
B54: 2 | C54: B | D54: 1.2 | E54: 0.08 | F54: 0.35 | G54: 2 | H54: 500 | K54: I = | L54: =Eigenfrequenz!B24 -> 273832 | M54: mm4
B55: 3 | C55: C | D55: 1.45 | E55: 0.1 | F55: 0.4 | G55: 2 | H55: 400 | K55: m = | L55: =Grundlagen!I38*Grundlagen!F34/2000 -> 0.75 | M55: kN
B56: 4 | C56: D | D56: 1.7 | E56: 0.1 | F56: 0.5 | G56: 2 | H56: 300
B57: 5 | C57: E | D57: 1.7 | E57: 0.09 | F57: 0.25 | G57: 2 | H57: 500 | K57: d = | L57: =L52^3/(48*L53*L54) -> 0.0056607672 | N57: k = | O57: =48*L53*L54/L52^3*1000 -> 176654.5 | P57: N/m
B58: 6 | C58: F | D58: - | E58: - | K58: ds = | L58: =L55*L52^3/(48*L53*L54)*10 -> 0.042455754 | M58: mm | N58: w = | O58: =SQRT(O57/L55) -> 485.32395 | P58: rad/s
K59: f = | L59: =PI()^2/(2*PI()*(L52/1000)^2)*SQRT(L53*L54/L55)/1000 -> 69.592265 | M59: Hz | N59: T = | O59: =1/L59 -> 0.014369413 | P59: s | Q59: Grundschwingzeit Element
O60: =O58/(2*PI()) -> 77.241705
B61: Erdbebenzonen | F61: Bauwerksklassen (Tabelle 25)
D62: agd | G62: Tragsicherheit | H62: Gebrauchstaug. | L62: CT | M62: he/f
B63: 1 | C63: Z1a | D63: 0.6 | F63: I | G63: 1 | H63: - | J63: Stahlbau Rahmen | L63: 0.085 | M63: L/200
B64: 2 | C64: Z1b | D64: 0.8 | F64: II | G64: 1.2 | H64: - | J64: Stahlbeton Rahmen | L64: 0.075 | M64: L/500
B65: 3 | C65: Z2 | D65: 1 | F65: III | G65: 1.5 | H65: 1 | J65: andere Tragwerke | L65: 0.05
B66: 4 | C66: Z3a | D66: 1.3
B67: 5 | C67: Z3b | D67: 1.6 | I67: Grundschwingzeit Gebäude T1 = | L67: Ct x h^0.75
